BEGIN:VCALENDAR
VERSION:2.0
PRODID:-//Capital Corvette Club - ECPv6.15.17//NONSGML v1.0//EN
CALSCALE:GREGORIAN
METHOD:PUBLISH
X-WR-CALNAME:Capital Corvette Club
X-ORIGINAL-URL:https://capitalcorvetteclub.ca
X-WR-CALDESC:Events for Capital Corvette Club
REFRESH-INTERVAL;VALUE=DURATION:PT1H
X-Robots-Tag:noindex
X-PUBLISHED-TTL:PT1H
BEGIN:VTIMEZONE
TZID:America/Toronto
BEGIN:DAYLIGHT
TZOFFSETFROM:-0500
TZOFFSETTO:-0400
TZNAME:EDT
DTSTART:20240310T070000
END:DAYLIGHT
BEGIN:STANDARD
TZOFFSETFROM:-0400
TZOFFSETTO:-0500
TZNAME:EST
DTSTART:20241103T060000
END:STANDARD
BEGIN:DAYLIGHT
TZOFFSETFROM:-0500
TZOFFSETTO:-0400
TZNAME:EDT
DTSTART:20250309T070000
END:DAYLIGHT
BEGIN:STANDARD
TZOFFSETFROM:-0400
TZOFFSETTO:-0500
TZNAME:EST
DTSTART:20251102T060000
END:STANDARD
BEGIN:DAYLIGHT
TZOFFSETFROM:-0500
TZOFFSETTO:-0400
TZNAME:EDT
DTSTART:20260308T070000
END:DAYLIGHT
BEGIN:STANDARD
TZOFFSETFROM:-0400
TZOFFSETTO:-0500
TZNAME:EST
DTSTART:20261101T060000
END:STANDARD
END:VTIMEZONE
BEGIN:VEVENT
DTSTART;TZID=America/Toronto:20250606T160000
DTEND;TZID=America/Toronto:20250608T120000
DTSTAMP:20260420T071518
CREATED:20250122T194928Z
LAST-MODIFIED:20250122T194928Z
UID:6773-1749225600-1749384000@capitalcorvetteclub.ca
SUMMARY:CCC 50th Anniversary Weekend
DESCRIPTION:Punchbowl has been sent with information and registration link
URL:https://capitalcorvetteclub.ca/event/ccc-50th-anniversary-weekend/
END:VEVENT
BEGIN:VEVENT
DTSTART;TZID=America/Toronto:20250612T080000
DTEND;TZID=America/Toronto:20250612T170000
DTSTAMP:20260420T071518
CREATED:20250612T173840Z
LAST-MODIFIED:20250612T173840Z
UID:6942-1749715200-1749747600@capitalcorvetteclub.ca
SUMMARY:Smiths Falls Seniors Residence Parade
DESCRIPTION:Watch for Punchbowl Invite
URL:https://capitalcorvetteclub.ca/event/smiths-falls-seniors-residence-parade/
END:VEVENT
BEGIN:VEVENT
DTSTART;TZID=America/Toronto:20250628T080000
DTEND;TZID=America/Toronto:20250628T170000
DTSTAMP:20260420T071518
CREATED:20250529T184422Z
LAST-MODIFIED:20250529T184422Z
UID:6926-1751097600-1751130000@capitalcorvetteclub.ca
SUMMARY:CCC Cruise - TBD
DESCRIPTION:Watch for Punchbowl invite.
URL:https://capitalcorvetteclub.ca/event/ccc-cruise-tbd/
END:VEVENT
BEGIN:VEVENT
DTSTART;TZID=America/Toronto:20250629T080000
DTEND;TZID=America/Toronto:20250629T170000
DTSTAMP:20260420T071518
CREATED:20250529T184510Z
LAST-MODIFIED:20250529T184510Z
UID:6928-1751184000-1751216400@capitalcorvetteclub.ca
SUMMARY:CCC Cruise - Rain Date - TBD
DESCRIPTION:Watch for Punchbowl invite.
URL:https://capitalcorvetteclub.ca/event/ccc-cruise-rain-date-tbd/
END:VEVENT
END:VCALENDAR