BEGIN:VCALENDAR
VERSION:2.0
PRODID:-//Capital Corvette Club - ECPv6.15.17//NONSGML v1.0//EN
CALSCALE:GREGORIAN
METHOD:PUBLISH
X-WR-CALNAME:Capital Corvette Club
X-ORIGINAL-URL:https://capitalcorvetteclub.ca
X-WR-CALDESC:Events for Capital Corvette Club
REFRESH-INTERVAL;VALUE=DURATION:PT1H
X-Robots-Tag:noindex
X-PUBLISHED-TTL:PT1H
BEGIN:VTIMEZONE
TZID:America/Toronto
BEGIN:DAYLIGHT
TZOFFSETFROM:-0500
TZOFFSETTO:-0400
TZNAME:EDT
DTSTART:20240310T070000
END:DAYLIGHT
BEGIN:STANDARD
TZOFFSETFROM:-0400
TZOFFSETTO:-0500
TZNAME:EST
DTSTART:20241103T060000
END:STANDARD
BEGIN:DAYLIGHT
TZOFFSETFROM:-0500
TZOFFSETTO:-0400
TZNAME:EDT
DTSTART:20250309T070000
END:DAYLIGHT
BEGIN:STANDARD
TZOFFSETFROM:-0400
TZOFFSETTO:-0500
TZNAME:EST
DTSTART:20251102T060000
END:STANDARD
BEGIN:DAYLIGHT
TZOFFSETFROM:-0500
TZOFFSETTO:-0400
TZNAME:EDT
DTSTART:20260308T070000
END:DAYLIGHT
BEGIN:STANDARD
TZOFFSETFROM:-0400
TZOFFSETTO:-0500
TZNAME:EST
DTSTART:20261101T060000
END:STANDARD
END:VTIMEZONE
BEGIN:VEVENT
DTSTART;TZID=America/Toronto:20251005T230000
DTEND;TZID=America/Toronto:20251005T230000
DTSTAMP:20260421T042127
CREATED:20250122T202828Z
LAST-MODIFIED:20251001T221826Z
UID:6805-1759705200-1759705200@capitalcorvetteclub.ca
SUMMARY:CCC Road Tour - Rail Tour to Stone Crop
DESCRIPTION:Watch for Punchbowl invite.
URL:https://capitalcorvetteclub.ca/event/ccc-road-tour-tbd-3/
END:VEVENT
BEGIN:VEVENT
DTSTART;TZID=America/Toronto:20251015T173000
DTEND;TZID=America/Toronto:20251015T193000
DTSTAMP:20260421T042127
CREATED:20250122T202925Z
LAST-MODIFIED:20251001T222010Z
UID:6807-1760549400-1760556600@capitalcorvetteclub.ca
SUMMARY:Monthly Cruise-in Dinner - Stacks Smoke Meat
DESCRIPTION:Watch for Punchbowl invite.
URL:https://capitalcorvetteclub.ca/event/monthly-cruise-in-dinner-tbd/
END:VEVENT
BEGIN:VEVENT
DTSTART;TZID=America/Toronto:20251017T100000
DTEND;TZID=America/Toronto:20251019T170000
DTSTAMP:20260421T042127
CREATED:20250122T203004Z
LAST-MODIFIED:20250806T231537Z
UID:6809-1760695200-1760893200@capitalcorvetteclub.ca
SUMMARY:CCC Road Tour - Algonquin Park
DESCRIPTION:Watch for Punchbowl invite.
URL:https://capitalcorvetteclub.ca/event/ccc-road-tour-tbd-4/
END:VEVENT
BEGIN:VEVENT
DTSTART;TZID=America/Toronto:20251026T080000
DTEND;TZID=America/Toronto:20251026T170000
DTSTAMP:20260421T042127
CREATED:20250710T000430Z
LAST-MODIFIED:20250710T000430Z
UID:7357-1761465600-1761498000@capitalcorvetteclub.ca
SUMMARY:CCC Road Tour - TBD
DESCRIPTION:
URL:https://capitalcorvetteclub.ca/event/ccc-road-tour-tbd-5/
END:VEVENT
END:VCALENDAR